Package: phenopath Version: 1.30.0 Command: /home/biocbuild/R/R/bin/R CMD INSTALL phenopath StartedAt: 2025-03-31 20:21:10 -0000 (Mon, 31 Mar 2025) EndedAt: 2025-03-31 20:21:54 -0000 (Mon, 31 Mar 2025) EllapsedTime: 44.2 seconds RetCode: 0 Status: OK