Package: phenopath Version: 1.30.0 Command: chmod a+r phenopath -R && F:\biocbuild\bbs-3.20-bioc\R\bin\R.exe CMD build --keep-empty-dirs --no-resave-data phenopath StartedAt: 2025-03-31 20:59:57 -0400 (Mon, 31 Mar 2025) EndedAt: 2025-03-31 21:00:53 -0400 (Mon, 31 Mar 2025) EllapsedTime: 56.5 seconds RetCode: 0 Status: OK PackageFile: phenopath_1.30.0.tar.gz PackageFileSize: 1.101 MiB