Package: phenopath Version: 1.30.0 Command: /Library/Frameworks/R.framework/Resources/bin/R CMD INSTALL phenopath StartedAt: 2025-03-31 15:15:52 -0400 (Mon, 31 Mar 2025) EndedAt: 2025-03-31 15:16:57 -0400 (Mon, 31 Mar 2025) EllapsedTime: 64.5 seconds RetCode: 0 Status: OK