Package: phenopath Version: 1.30.0 Command: /Library/Frameworks/R.framework/Resources/bin/R CMD check --install=check:phenopath.install-out.txt --library=/Library/Frameworks/R.framework/Resources/library --no-vignettes --timings phenopath_1.30.0.tar.gz StartedAt: 2025-04-01 07:06:22 -0400 (Tue, 01 Apr 2025) EndedAt: 2025-04-01 07:12:04 -0400 (Tue, 01 Apr 2025) EllapsedTime: 342.2 seconds RetCode: 0 Status: OK CheckDir: phenopath.Rcheck Warnings: 0