Package: phenopath Version: 1.30.0 Command: /Library/Frameworks/R.framework/Resources/bin/R CMD build --keep-empty-dirs --no-resave-data phenopath StartedAt: 2025-03-31 21:00:11 -0400 (Mon, 31 Mar 2025) EndedAt: 2025-03-31 21:02:04 -0400 (Mon, 31 Mar 2025) EllapsedTime: 113.8 seconds RetCode: 0 Status: OK PackageFile: phenopath_1.30.0.tar.gz PackageFileSize: 1.306 MiB