Package: phenomis Version: 1.8.0 Command: /home/biocbuild/bbs-3.20-bioc/R/bin/R CMD INSTALL phenomis StartedAt: 2025-03-31 15:54:28 -0400 (Mon, 31 Mar 2025) EndedAt: 2025-03-31 15:55:05 -0400 (Mon, 31 Mar 2025) EllapsedTime: 36.6 seconds RetCode: 0 Status: OK