Package: phenomis Version: 1.8.0 Command: /Library/Frameworks/R.framework/Resources/bin/R CMD INSTALL phenomis StartedAt: 2025-03-31 17:53:44 -0400 (Mon, 31 Mar 2025) EndedAt: 2025-03-31 17:54:29 -0400 (Mon, 31 Mar 2025) EllapsedTime: 44.6 seconds RetCode: 0 Status: OK