Package: phenomis Version: 1.8.0 Command: /Library/Frameworks/R.framework/Resources/bin/R CMD build --keep-empty-dirs --no-resave-data phenomis StartedAt: 2025-04-01 05:05:26 -0400 (Tue, 01 Apr 2025) EndedAt: 2025-04-01 05:07:12 -0400 (Tue, 01 Apr 2025) EllapsedTime: 106.6 seconds RetCode: 0 Status: OK PackageFile: phenomis_1.8.0.tar.gz PackageFileSize: 3.938 MiB