Package: phenoTest Version: 1.54.0 Command: /home/biocbuild/R/R/bin/R CMD build --keep-empty-dirs --no-resave-data phenoTest StartedAt: 2025-04-01 01:34:10 -0000 (Tue, 01 Apr 2025) EndedAt: 2025-04-01 01:35:16 -0000 (Tue, 01 Apr 2025) EllapsedTime: 66.0 seconds RetCode: 0 Status: OK PackageFile: phenoTest_1.54.0.tar.gz PackageFileSize: 1.265 MiB