Package: phenoTest Version: 1.54.0 Command: F:\biocbuild\bbs-3.20-bioc\R\bin\R.exe CMD check --no-multiarch --install=check:phenoTest.install-out.txt --library=F:\biocbuild\bbs-3.20-bioc\R\library --no-vignettes --timings phenoTest_1.54.0.tar.gz StartedAt: 2025-04-01 04:33:17 -0400 (Tue, 01 Apr 2025) EndedAt: 2025-04-01 04:37:24 -0400 (Tue, 01 Apr 2025) EllapsedTime: 247.7 seconds RetCode: 0 Status: OK CheckDir: phenoTest.Rcheck Warnings: 0