Package: phenoTest Version: 1.54.0 Command: /home/biocbuild/bbs-3.20-bioc/R/bin/R CMD INSTALL phenoTest StartedAt: 2025-03-31 15:45:21 -0400 (Mon, 31 Mar 2025) EndedAt: 2025-03-31 15:45:52 -0400 (Mon, 31 Mar 2025) EllapsedTime: 31.1 seconds RetCode: 0 Status: OK