Package: phenoTest Version: 1.54.0 Command: /Library/Frameworks/R.framework/Resources/bin/R CMD check --install=check:phenoTest.install-out.txt --library=/Library/Frameworks/R.framework/Resources/library --no-vignettes --timings phenoTest_1.54.0.tar.gz StartedAt: 2025-04-01 07:06:33 -0400 (Tue, 01 Apr 2025) EndedAt: 2025-04-01 07:13:38 -0400 (Tue, 01 Apr 2025) EllapsedTime: 424.6 seconds RetCode: 0 Status: OK CheckDir: phenoTest.Rcheck Warnings: 0