Package: phantasusLite Version: 1.4.0 Command: /home/biocbuild/R/R/bin/R CMD INSTALL phantasusLite StartedAt: 2025-03-31 20:18:55 -0000 (Mon, 31 Mar 2025) EndedAt: 2025-03-31 20:19:16 -0000 (Mon, 31 Mar 2025) EllapsedTime: 20.8 seconds RetCode: 0 Status: OK