Package: phantasusLite Version: 1.4.0 Command: /home/biocbuild/R/R/bin/R CMD check --install=check:phantasusLite.install-out.txt --library=/home/biocbuild/R/R/site-library --no-vignettes --timings phantasusLite_1.4.0.tar.gz StartedAt: 2025-03-28 09:28:06 -0000 (Fri, 28 Mar 2025) EndedAt: 2025-03-28 09:32:04 -0000 (Fri, 28 Mar 2025) EllapsedTime: 238.3 seconds RetCode: 1 Status: ERROR CheckDir: phantasusLite.Rcheck Warnings: NA