Package: phantasusLite Version: 1.4.0 Command: /home/biocbuild/R/R/bin/R CMD build --keep-empty-dirs --no-resave-data phantasusLite StartedAt: 2025-04-01 01:33:25 -0000 (Tue, 01 Apr 2025) EndedAt: 2025-04-01 01:33:59 -0000 (Tue, 01 Apr 2025) EllapsedTime: 34.0 seconds RetCode: 1 Status: ERROR PackageFile: None PackageFileSize: NA