Package: phantasusLite Version: 1.4.0 Command: /Library/Frameworks/R.framework/Resources/bin/R CMD check --install=check:phantasusLite.install-out.txt --library=/Library/Frameworks/R.framework/Resources/library --no-vignettes --timings phantasusLite_1.4.0.tar.gz StartedAt: 2025-04-02 04:03:46 -0400 (Wed, 02 Apr 2025) EndedAt: 2025-04-02 04:07:30 -0400 (Wed, 02 Apr 2025) EllapsedTime: 224.0 seconds RetCode: 0 Status: OK CheckDir: phantasusLite.Rcheck Warnings: 0