Package: phantasus Version: 1.26.0 Command: /home/biocbuild/R/R/bin/R CMD build --keep-empty-dirs --no-resave-data phantasus StartedAt: 2025-04-01 01:33:19 -0000 (Tue, 01 Apr 2025) EndedAt: 2025-04-01 01:34:10 -0000 (Tue, 01 Apr 2025) EllapsedTime: 50.0 seconds RetCode: 0 Status: OK PackageFile: phantasus_1.26.0.tar.gz PackageFileSize: 9.609 MiB