Package: pgxRpi Version: 1.2.3 Command: /home/biocbuild/R/R/bin/R CMD INSTALL pgxRpi StartedAt: 2025-03-31 21:08:52 -0000 (Mon, 31 Mar 2025) EndedAt: 2025-03-31 21:08:56 -0000 (Mon, 31 Mar 2025) EllapsedTime: 4.1 seconds RetCode: 0 Status: OK