Package: pgxRpi Version: 1.2.3 Command: /home/biocbuild/R/R/bin/R CMD build --keep-empty-dirs --no-resave-data pgxRpi StartedAt: 2025-04-01 01:33:15 -0000 (Tue, 01 Apr 2025) EndedAt: 2025-04-01 01:40:34 -0000 (Tue, 01 Apr 2025) EllapsedTime: 438.2 seconds RetCode: 1 Status: ERROR PackageFile: None PackageFileSize: NA