Package: pgxRpi Version: 1.2.3 Command: /Library/Frameworks/R.framework/Resources/bin/R CMD check --install=check:pgxRpi.install-out.txt --library=/Library/Frameworks/R.framework/Resources/library --no-vignettes --timings pgxRpi_1.2.3.tar.gz StartedAt: 2025-04-02 04:00:28 -0400 (Wed, 02 Apr 2025) EndedAt: 2025-04-02 04:07:21 -0400 (Wed, 02 Apr 2025) EllapsedTime: 412.9 seconds RetCode: 0 Status: OK CheckDir: pgxRpi.Rcheck Warnings: 0