Package: pgxRpi Version: 1.2.3 Command: rm -rf pgxRpi.buildbin-libdir && mkdir pgxRpi.buildbin-libdir && /Users/biocbuild/BBS/utils/build-universal.sh pgxRpi_1.2.3.tar.gz /Library/Frameworks/R.framework/Resources/bin/R pgxRpi.buildbin-libdir StartedAt: 2025-04-02 15:36:44 -0400 (Wed, 02 Apr 2025) EndedAt: 2025-04-02 15:36:51 -0400 (Wed, 02 Apr 2025) EllapsedTime: 6.9 seconds RetCode: 0 Status: OK PackageFile: pgxRpi_1.2.3.tgz PackageFileSize: 3.043 MiB