Package: pgca Version: 1.30.0 Command: rm -rf pgca.buildbin-libdir && mkdir pgca.buildbin-libdir && F:\biocbuild\bbs-3.20-bioc\R\bin\R.exe CMD INSTALL --build --library=pgca.buildbin-libdir pgca_1.30.0.tar.gz StartedAt: 2025-04-01 08:51:34 -0400 (Tue, 01 Apr 2025) EndedAt: 2025-04-01 08:51:42 -0400 (Tue, 01 Apr 2025) EllapsedTime: 7.8 seconds RetCode: 0 Status: OK PackageFile: pgca_1.30.0.zip PackageFileSize: 149.8 KiB