Package: pgca Version: 1.30.0 Command: /Library/Frameworks/R.framework/Resources/bin/R CMD build --keep-empty-dirs --no-resave-data pgca StartedAt: 2025-03-31 20:58:44 -0400 (Mon, 31 Mar 2025) EndedAt: 2025-03-31 20:58:56 -0400 (Mon, 31 Mar 2025) EllapsedTime: 12.3 seconds RetCode: 0 Status: OK PackageFile: pgca_1.30.0.tar.gz PackageFileSize: 216.9 KiB