Package: pgca Version: 1.30.0 Command: /Library/Frameworks/R.framework/Resources/bin/R CMD check --install=check:pgca.install-out.txt --library=/Library/Frameworks/R.framework/Resources/library --no-vignettes --timings pgca_1.30.0.tar.gz StartedAt: 2025-04-02 04:00:01 -0400 (Wed, 02 Apr 2025) EndedAt: 2025-04-02 04:00:28 -0400 (Wed, 02 Apr 2025) EllapsedTime: 27.4 seconds RetCode: 0 Status: OK CheckDir: pgca.Rcheck Warnings: 0