Package: pgca Version: 1.30.0 Command: /Library/Frameworks/R.framework/Resources/bin/R CMD build --keep-empty-dirs --no-resave-data pgca StartedAt: 2025-04-01 05:03:35 -0400 (Tue, 01 Apr 2025) EndedAt: 2025-04-01 05:03:42 -0400 (Tue, 01 Apr 2025) EllapsedTime: 6.8 seconds RetCode: 0 Status: OK PackageFile: pgca_1.30.0.tar.gz PackageFileSize: 217.5 KiB