Package: pgca Version: 1.30.0 Command: rm -rf pgca.buildbin-libdir && mkdir pgca.buildbin-libdir && /Users/biocbuild/BBS/utils/build-universal.sh pgca_1.30.0.tar.gz /Library/Frameworks/R.framework/Resources/bin/R pgca.buildbin-libdir StartedAt: 2025-04-02 15:36:41 -0400 (Wed, 02 Apr 2025) EndedAt: 2025-04-02 15:36:44 -0400 (Wed, 02 Apr 2025) EllapsedTime: 3.4 seconds RetCode: 0 Status: OK PackageFile: pgca_1.30.0.tgz PackageFileSize: 144 KiB