Package: pfamAnalyzeR Version: 1.6.0 Command: chmod a+r pfamAnalyzeR -R && F:\biocbuild\bbs-3.20-bioc\R\bin\R.exe CMD build --keep-empty-dirs --no-resave-data pfamAnalyzeR StartedAt: 2025-03-31 20:58:32 -0400 (Mon, 31 Mar 2025) EndedAt: 2025-03-31 20:58:46 -0400 (Mon, 31 Mar 2025) EllapsedTime: 14.0 seconds RetCode: 0 Status: OK PackageFile: pfamAnalyzeR_1.6.0.tar.gz PackageFileSize: 351.9 KiB