Package: periodicDNA Version: 1.16.0 Command: /Library/Frameworks/R.framework/Resources/bin/R CMD check --install=check:periodicDNA.install-out.txt --library=/Library/Frameworks/R.framework/Resources/library --no-vignettes --timings periodicDNA_1.16.0.tar.gz StartedAt: 2025-04-02 03:58:59 -0400 (Wed, 02 Apr 2025) EndedAt: 2025-04-02 04:05:28 -0400 (Wed, 02 Apr 2025) EllapsedTime: 388.4 seconds RetCode: 0 Status: WARNINGS CheckDir: periodicDNA.Rcheck Warnings: 1