Package: pepXMLTab Version: 1.40.0 Command: F:\biocbuild\bbs-3.20-bioc\R\bin\R.exe CMD INSTALL pepXMLTab StartedAt: 2025-03-31 15:27:37 -0400 (Mon, 31 Mar 2025) EndedAt: 2025-03-31 15:27:44 -0400 (Mon, 31 Mar 2025) EllapsedTime: 7.4 seconds RetCode: 0 Status: OK