Package: pepStat Version: 1.40.0 Command: /home/biocbuild/R/R/bin/R CMD build --keep-empty-dirs --no-resave-data pepStat StartedAt: 2025-04-01 01:32:50 -0000 (Tue, 01 Apr 2025) EndedAt: 2025-04-01 01:33:57 -0000 (Tue, 01 Apr 2025) EllapsedTime: 67.0 seconds RetCode: 0 Status: OK PackageFile: pepStat_1.40.0.tar.gz PackageFileSize: 313.5 KiB