Package: pepStat Version: 1.40.0 Command: /home/biocbuild/bbs-3.20-bioc/R/bin/R CMD check --install=check:pepStat.install-out.txt --library=/home/biocbuild/bbs-3.20-bioc/R/site-library --timings pepStat_1.40.0.tar.gz StartedAt: 2025-04-01 00:55:03 -0400 (Tue, 01 Apr 2025) EndedAt: 2025-04-01 00:57:36 -0400 (Tue, 01 Apr 2025) EllapsedTime: 153.2 seconds RetCode: 0 Status: OK CheckDir: pepStat.Rcheck Warnings: 0