Package: pepStat Version: 1.40.0 Command: /Library/Frameworks/R.framework/Resources/bin/R CMD build --keep-empty-dirs --no-resave-data pepStat StartedAt: 2025-04-01 05:02:19 -0400 (Tue, 01 Apr 2025) EndedAt: 2025-04-01 05:03:26 -0400 (Tue, 01 Apr 2025) EllapsedTime: 66.7 seconds RetCode: 0 Status: OK PackageFile: pepStat_1.40.0.tar.gz PackageFileSize: 319.4 KiB