Package: pepStat Version: 1.40.0 Command: rm -rf pepStat.buildbin-libdir && mkdir pepStat.buildbin-libdir && /Users/biocbuild/BBS/utils/build-universal.sh pepStat_1.40.0.tar.gz /Library/Frameworks/R.framework/Resources/bin/R pepStat.buildbin-libdir StartedAt: 2025-04-02 15:36:29 -0400 (Wed, 02 Apr 2025) EndedAt: 2025-04-02 15:36:51 -0400 (Wed, 02 Apr 2025) EllapsedTime: 22.4 seconds RetCode: 0 Status: OK PackageFile: pepStat_1.40.0.tgz PackageFileSize: 735.4 KiB