Package: pengls Version: 1.12.0 Command: /Library/Frameworks/R.framework/Resources/bin/R CMD INSTALL pengls StartedAt: 2025-03-31 16:10:02 -0400 (Mon, 31 Mar 2025) EndedAt: 2025-03-31 16:10:15 -0400 (Mon, 31 Mar 2025) EllapsedTime: 12.9 seconds RetCode: 0 Status: OK