Package: peco Version: 1.18.0 Command: /home/biocbuild/R/R/bin/R CMD check --install=check:peco.install-out.txt --library=/home/biocbuild/R/R/site-library --no-vignettes --timings peco_1.18.0.tar.gz StartedAt: 2025-04-01 09:21:01 -0000 (Tue, 01 Apr 2025) EndedAt: 2025-04-01 09:31:18 -0000 (Tue, 01 Apr 2025) EllapsedTime: 616.8 seconds RetCode: 0 Status: OK CheckDir: peco.Rcheck Warnings: 0