Package: peco Version: 1.18.0 Command: chmod a+r peco -R && F:\biocbuild\bbs-3.20-bioc\R\bin\R.exe CMD build --keep-empty-dirs --no-resave-data peco StartedAt: 2025-03-31 20:56:06 -0400 (Mon, 31 Mar 2025) EndedAt: 2025-03-31 20:59:43 -0400 (Mon, 31 Mar 2025) EllapsedTime: 217.3 seconds RetCode: 0 Status: OK PackageFile: peco_1.18.0.tar.gz PackageFileSize: 1.028 MiB