Package: peco Version: 1.18.0 Command: /home/biocbuild/bbs-3.20-bioc/R/bin/R CMD INSTALL peco StartedAt: 2025-03-31 15:53:31 -0400 (Mon, 31 Mar 2025) EndedAt: 2025-03-31 15:53:56 -0400 (Mon, 31 Mar 2025) EllapsedTime: 25.0 seconds RetCode: 0 Status: OK