Package: peco Version: 1.18.0 Command: /home/biocbuild/bbs-3.20-bioc/R/bin/R CMD build --keep-empty-dirs --no-resave-data --md5 peco StartedAt: 2025-03-31 18:30:39 -0400 (Mon, 31 Mar 2025) EndedAt: 2025-03-31 18:32:57 -0400 (Mon, 31 Mar 2025) EllapsedTime: 138.2 seconds RetCode: 0 Status: OK PackageFile: peco_1.18.0.tar.gz PackageFileSize: 1.069 MiB