Package: peakPantheR Version: 1.20.0 Command: /Library/Frameworks/R.framework/Resources/bin/R CMD check --install=check:peakPantheR.install-out.txt --library=/Library/Frameworks/R.framework/Resources/library --no-vignettes --timings peakPantheR_1.20.0.tar.gz StartedAt: 2025-04-02 03:51:00 -0400 (Wed, 02 Apr 2025) EndedAt: 2025-04-02 04:15:34 -0400 (Wed, 02 Apr 2025) EllapsedTime: 1474.2 seconds RetCode: 1 Status: ERROR CheckDir: peakPantheR.Rcheck Warnings: NA