Package: pdInfoBuilder Version: 1.70.0 Command: /home/biocbuild/R/R/bin/R CMD check --install=check:pdInfoBuilder.install-out.txt --library=/home/biocbuild/R/R/site-library --no-vignettes --timings pdInfoBuilder_1.70.0.tar.gz StartedAt: 2025-04-01 09:19:08 -0000 (Tue, 01 Apr 2025) EndedAt: 2025-04-01 09:22:42 -0000 (Tue, 01 Apr 2025) EllapsedTime: 214.2 seconds RetCode: 0 Status: OK CheckDir: pdInfoBuilder.Rcheck Warnings: 0