Package: pdInfoBuilder Version: 1.70.0 Command: /Library/Frameworks/R.framework/Resources/bin/R CMD INSTALL pdInfoBuilder StartedAt: 2025-03-31 15:32:46 -0400 (Mon, 31 Mar 2025) EndedAt: 2025-03-31 15:34:00 -0400 (Mon, 31 Mar 2025) EllapsedTime: 74.1 seconds RetCode: 0 Status: OK