Package: pcaMethods Version: 1.98.0 Command: chmod a+r pcaMethods -R && F:\biocbuild\bbs-3.20-bioc\R\bin\R.exe CMD build --keep-empty-dirs --no-resave-data pcaMethods StartedAt: 2025-03-31 20:54:57 -0400 (Mon, 31 Mar 2025) EndedAt: 2025-03-31 20:57:22 -0400 (Mon, 31 Mar 2025) EllapsedTime: 145.1 seconds RetCode: 0 Status: OK PackageFile: pcaMethods_1.98.0.tar.gz PackageFileSize: 604.2 KiB