Package: pcaMethods Version: 1.98.0 Command: rm -rf pcaMethods.buildbin-libdir && mkdir pcaMethods.buildbin-libdir && /Users/biocbuild/BBS/utils/build-universal.sh pcaMethods_1.98.0.tar.gz /Library/Frameworks/R.framework/Resources/bin/R pcaMethods.buildbin-libdir StartedAt: 2025-04-02 15:35:44 -0400 (Wed, 02 Apr 2025) EndedAt: 2025-04-02 15:36:02 -0400 (Wed, 02 Apr 2025) EllapsedTime: 18.5 seconds RetCode: 0 Status: OK PackageFile: pcaMethods_1.98.0.tgz PackageFileSize: 1.433 MiB