Package: pcaExplorer Version: 3.0.0 Command: /home/biocbuild/R/R/bin/R CMD INSTALL pcaExplorer StartedAt: 2025-03-31 21:01:40 -0000 (Mon, 31 Mar 2025) EndedAt: 2025-03-31 21:02:47 -0000 (Mon, 31 Mar 2025) EllapsedTime: 67.4 seconds RetCode: 0 Status: OK