Package: pcaExplorer Version: 3.0.0 Command: /home/biocbuild/R/R/bin/R CMD build --keep-empty-dirs --no-resave-data pcaExplorer StartedAt: 2025-04-01 01:29:16 -0000 (Tue, 01 Apr 2025) EndedAt: 2025-04-01 01:31:48 -0000 (Tue, 01 Apr 2025) EllapsedTime: 152.0 seconds RetCode: 0 Status: OK PackageFile: pcaExplorer_3.0.0.tar.gz PackageFileSize: 9.717 MiB