Package: pcaExplorer Version: 3.0.0 Command: chmod a+r pcaExplorer -R && F:\biocbuild\bbs-3.20-bioc\R\bin\R.exe CMD build --keep-empty-dirs --no-resave-data pcaExplorer StartedAt: 2025-03-31 20:54:43 -0400 (Mon, 31 Mar 2025) EndedAt: 2025-03-31 21:08:33 -0400 (Mon, 31 Mar 2025) EllapsedTime: 830.6 seconds RetCode: 0 Status: OK PackageFile: pcaExplorer_3.0.0.tar.gz PackageFileSize: 9.546 MiB