Package: pcaExplorer Version: 3.0.0 Command: rm -rf pcaExplorer.buildbin-libdir && mkdir pcaExplorer.buildbin-libdir && F:\biocbuild\bbs-3.20-bioc\R\bin\R.exe CMD INSTALL --build --library=pcaExplorer.buildbin-libdir pcaExplorer_3.0.0.tar.gz StartedAt: 2025-04-01 08:50:23 -0400 (Tue, 01 Apr 2025) EndedAt: 2025-04-01 08:52:05 -0400 (Tue, 01 Apr 2025) EllapsedTime: 101.5 seconds RetCode: 0 Status: OK PackageFile: pcaExplorer_3.0.0.zip PackageFileSize: 7.156 MiB