Package: pcaExplorer Version: 3.0.0 Command: /home/biocbuild/bbs-3.20-bioc/R/bin/R CMD build --keep-empty-dirs --no-resave-data --md5 pcaExplorer StartedAt: 2025-03-31 18:29:44 -0400 (Mon, 31 Mar 2025) EndedAt: 2025-03-31 18:31:47 -0400 (Mon, 31 Mar 2025) EllapsedTime: 123.1 seconds RetCode: 0 Status: OK PackageFile: pcaExplorer_3.0.0.tar.gz PackageFileSize: 10.72 MiB