Package: pcaExplorer Version: 3.0.0 Command: /Library/Frameworks/R.framework/Resources/bin/R CMD INSTALL pcaExplorer StartedAt: 2025-03-31 16:24:20 -0400 (Mon, 31 Mar 2025) EndedAt: 2025-03-31 16:26:13 -0400 (Mon, 31 Mar 2025) EllapsedTime: 113.3 seconds RetCode: 0 Status: OK