Package: pcaExplorer Version: 3.0.0 Command: /Library/Frameworks/R.framework/Resources/bin/R CMD check --install=check:pcaExplorer.install-out.txt --library=/Library/Frameworks/R.framework/Resources/library --no-vignettes --timings pcaExplorer_3.0.0.tar.gz StartedAt: 2025-04-01 06:59:38 -0400 (Tue, 01 Apr 2025) EndedAt: 2025-04-01 07:18:16 -0400 (Tue, 01 Apr 2025) EllapsedTime: 1118.0 seconds RetCode: 0 Status: OK CheckDir: pcaExplorer.Rcheck Warnings: 0